BEGIN:VCALENDAR
VERSION:2.0
PRODID:-//Ingersoll and District Horticultural Society - ECPv6.15.11//NONSGML v1.0//EN
CALSCALE:GREGORIAN
METHOD:PUBLISH
X-WR-CALNAME:Ingersoll and District Horticultural Society
X-ORIGINAL-URL:https://ingersollanddistricthorticultural.ca
X-WR-CALDESC:Events for Ingersoll and District Horticultural Society
REFRESH-INTERVAL;VALUE=DURATION:PT1H
X-Robots-Tag:noindex
X-PUBLISHED-TTL:PT1H
BEGIN:VTIMEZONE
TZID:America/Toronto
BEGIN:DAYLIGHT
TZOFFSETFROM:-0500
TZOFFSETTO:-0400
TZNAME:EDT
DTSTART:20250309T070000
END:DAYLIGHT
BEGIN:STANDARD
TZOFFSETFROM:-0400
TZOFFSETTO:-0500
TZNAME:EST
DTSTART:20251102T060000
END:STANDARD
BEGIN:DAYLIGHT
TZOFFSETFROM:-0500
TZOFFSETTO:-0400
TZNAME:EDT
DTSTART:20260308T070000
END:DAYLIGHT
BEGIN:STANDARD
TZOFFSETFROM:-0400
TZOFFSETTO:-0500
TZNAME:EST
DTSTART:20261101T060000
END:STANDARD
BEGIN:DAYLIGHT
TZOFFSETFROM:-0500
TZOFFSETTO:-0400
TZNAME:EDT
DTSTART:20270314T070000
END:DAYLIGHT
BEGIN:STANDARD
TZOFFSETFROM:-0400
TZOFFSETTO:-0500
TZNAME:EST
DTSTART:20271107T060000
END:STANDARD
END:VTIMEZONE
BEGIN:VEVENT
DTSTART;TZID=America/Toronto:20260712T130000
DTEND;TZID=America/Toronto:20260712T160000
DTSTAMP:20260423T154046
CREATED:20251113T002554Z
LAST-MODIFIED:20251113T002554Z
UID:935-1783861200-1783872000@ingersollanddistricthorticultural.ca
SUMMARY:July 2026 - Possible Parade of Gardens
DESCRIPTION:Are you interested in displaying all your gardening skills and talents and be a part of our Parade of Gardens? Please contact the organizers if you are interested. \nFor the rest of you\, come out and support this free event by members of our Horticultural Society. More details to follow.
URL:https://ingersollanddistricthorticultural.ca/event/july-2026-possible-parade-of-gardens/
LOCATION:Ontario
ORGANIZER;CN="Richard Poortinga%2C Linda Henderson":MAILTO:info@ingersollhortsociety.ca
END:VEVENT
END:VCALENDAR