BEGIN:VCALENDAR
VERSION:2.0
PRODID:-//Ingersoll and District Horticultural Society - ECPv6.15.11//NONSGML v1.0//EN
CALSCALE:GREGORIAN
METHOD:PUBLISH
X-WR-CALNAME:Ingersoll and District Horticultural Society
X-ORIGINAL-URL:https://ingersollanddistricthorticultural.ca
X-WR-CALDESC:Events for Ingersoll and District Horticultural Society
REFRESH-INTERVAL;VALUE=DURATION:PT1H
X-Robots-Tag:noindex
X-PUBLISHED-TTL:PT1H
BEGIN:VTIMEZONE
TZID:America/Toronto
BEGIN:DAYLIGHT
TZOFFSETFROM:-0500
TZOFFSETTO:-0400
TZNAME:EDT
DTSTART:20250309T070000
END:DAYLIGHT
BEGIN:STANDARD
TZOFFSETFROM:-0400
TZOFFSETTO:-0500
TZNAME:EST
DTSTART:20251102T060000
END:STANDARD
BEGIN:DAYLIGHT
TZOFFSETFROM:-0500
TZOFFSETTO:-0400
TZNAME:EDT
DTSTART:20260308T070000
END:DAYLIGHT
BEGIN:STANDARD
TZOFFSETFROM:-0400
TZOFFSETTO:-0500
TZNAME:EST
DTSTART:20261101T060000
END:STANDARD
BEGIN:DAYLIGHT
TZOFFSETFROM:-0500
TZOFFSETTO:-0400
TZNAME:EDT
DTSTART:20270314T070000
END:DAYLIGHT
BEGIN:STANDARD
TZOFFSETFROM:-0400
TZOFFSETTO:-0500
TZNAME:EST
DTSTART:20271107T060000
END:STANDARD
END:VTIMEZONE
BEGIN:VEVENT
DTSTART;TZID=America/Toronto:20260922T193000
DTEND;TZID=America/Toronto:20260922T210000
DTSTAMP:20260423T185502
CREATED:20251113T004343Z
LAST-MODIFIED:20251113T004343Z
UID:937-1790105400-1790110800@ingersollanddistricthorticultural.ca
SUMMARY:September 22nd 2026 - Propagation DeMystified
DESCRIPTION:Want to start your own plants from clippings? Attend this very informative presentation by Kimberly Nikkel.
URL:https://ingersollanddistricthorticultural.ca/event/september-22nd-2026-propagation-demystified/
LOCATION:Ingersoll 50+ Activity Centre\, 250 Ingersoll Street South\, Ingersoll\, Ontario\, N5C 3J7\, Canada
END:VEVENT
BEGIN:VEVENT
DTSTART;TZID=America/Toronto:20261027T193000
DTEND;TZID=America/Toronto:20261027T210000
DTSTAMP:20260423T185502
CREATED:20251113T004638Z
LAST-MODIFIED:20251113T004638Z
UID:939-1793129400-1793134800@ingersollanddistricthorticultural.ca
SUMMARY:October 27th 2026 - Growing Roses
DESCRIPTION:Learn how to cut roses back for the winter in preparation for Springtime blossoms. Roland Craig will be presenting.
URL:https://ingersollanddistricthorticultural.ca/event/october-27th-2026-growing-roses/
LOCATION:Ingersoll 50+ Activity Centre\, 250 Ingersoll Street South\, Ingersoll\, Ontario\, N5C 3J7\, Canada
END:VEVENT
BEGIN:VEVENT
DTSTART;TZID=America/Toronto:20261124T180000
DTEND;TZID=America/Toronto:20261124T210000
DTSTAMP:20260423T185502
CREATED:20251113T005256Z
LAST-MODIFIED:20251113T005326Z
UID:941-1795543200-1795554000@ingersollanddistricthorticultural.ca
SUMMARY:November 24th 2026 - Christmas Potluck Supper/ Hazelnut Production
DESCRIPTION:Join us for the last meeting of the year and some Christmas cheer. Bring a dish to share and get some great recipes. There will be door prizes\, a 50/50 draw and refreshments will be provided. \nAfterwards\, Stephanie Sharp from Glenridge Hazelnut Farm will be presenting on Hazelnut production. I’m curious\, how about you?
URL:https://ingersollanddistricthorticultural.ca/event/november-24th-2026-christmas-potluck-supper-hazelnut-production/
LOCATION:Ingersoll 50+ Activity Centre\, 250 Ingersoll Street South\, Ingersoll\, Ontario\, N5C 3J7\, Canada
END:VEVENT
END:VCALENDAR