BEGIN:VCALENDAR
VERSION:2.0
PRODID:-//Ingersoll and District Horticultural Society - ECPv6.15.11//NONSGML v1.0//EN
CALSCALE:GREGORIAN
METHOD:PUBLISH
X-WR-CALNAME:Ingersoll and District Horticultural Society
X-ORIGINAL-URL:https://ingersollanddistricthorticultural.ca
X-WR-CALDESC:Events for Ingersoll and District Horticultural Society
REFRESH-INTERVAL;VALUE=DURATION:PT1H
X-Robots-Tag:noindex
X-PUBLISHED-TTL:PT1H
BEGIN:VTIMEZONE
TZID:America/Toronto
BEGIN:DAYLIGHT
TZOFFSETFROM:-0500
TZOFFSETTO:-0400
TZNAME:EDT
DTSTART:20240310T070000
END:DAYLIGHT
BEGIN:STANDARD
TZOFFSETFROM:-0400
TZOFFSETTO:-0500
TZNAME:EST
DTSTART:20241103T060000
END:STANDARD
BEGIN:DAYLIGHT
TZOFFSETFROM:-0500
TZOFFSETTO:-0400
TZNAME:EDT
DTSTART:20250309T070000
END:DAYLIGHT
BEGIN:STANDARD
TZOFFSETFROM:-0400
TZOFFSETTO:-0500
TZNAME:EST
DTSTART:20251102T060000
END:STANDARD
BEGIN:DAYLIGHT
TZOFFSETFROM:-0500
TZOFFSETTO:-0400
TZNAME:EDT
DTSTART:20260308T070000
END:DAYLIGHT
BEGIN:STANDARD
TZOFFSETFROM:-0400
TZOFFSETTO:-0500
TZNAME:EST
DTSTART:20261101T060000
END:STANDARD
BEGIN:DAYLIGHT
TZOFFSETFROM:-0500
TZOFFSETTO:-0400
TZNAME:EDT
DTSTART:20270314T070000
END:DAYLIGHT
BEGIN:STANDARD
TZOFFSETFROM:-0400
TZOFFSETTO:-0500
TZNAME:EST
DTSTART:20271107T060000
END:STANDARD
END:VTIMEZONE
BEGIN:VEVENT
DTSTART;TZID=America/Toronto:20260515T150000
DTEND;TZID=America/Toronto:20260515T190000
DTSTAMP:20260423T173100
CREATED:20251113T000923Z
LAST-MODIFIED:20251113T001418Z
UID:927-1778857200-1778871600@ingersollanddistricthorticultural.ca
SUMMARY:May 15th 2026 - Annual Plant and Bake Sale
DESCRIPTION:Come out to share in our biggest fund-raising event of the year. Donate your plants and bake goods. Buy incredibly priced common and unique annuals\, vegetables\, herbs and perennials. Stock up on tasty baked good treats. \nHeld over 2 days – Friday 15th from 3pm to 7pm and Saturday 16th from 7am to 12 noon. It is held in the Unifor Hall parking lot- 364 Victoria Street Ingersoll\, ON  N5C 2N4 – rain or shine.
URL:https://ingersollanddistricthorticultural.ca/event/may-15th-16th-2026-annual-plant-and-bake-sale/
LOCATION:Unifor Hall\, 364 Victoria Street\, Ingersoll\, Ontario
END:VEVENT
BEGIN:VEVENT
DTSTART;TZID=America/Toronto:20260428T193000
DTEND;TZID=America/Toronto:20260428T210000
DTSTAMP:20260423T173100
CREATED:20251112T235824Z
LAST-MODIFIED:20251112T235824Z
UID:925-1777404600-1777410000@ingersollanddistricthorticultural.ca
SUMMARY:April 28th 2026 - Cut Flowers/Flower Farming
DESCRIPTION:Want to learn about having cut flowers all year long? Come out and join us for a great presentation from Janice Harris.
URL:https://ingersollanddistricthorticultural.ca/event/april-28th-2026-cut-flowers-flower-farming/
LOCATION:Ingersoll 50+ Activity Centre\, 250 Ingersoll Street South\, Ingersoll\, Ontario\, N5C 3J7\, Canada
ORGANIZER;CN="Richard Poortinga%2C Linda Henderson":MAILTO:info@ingersollhortsociety.ca
END:VEVENT
BEGIN:VEVENT
DTSTART;TZID=America/Toronto:20260324T193000
DTEND;TZID=America/Toronto:20260324T210000
DTSTAMP:20260423T173100
CREATED:20251112T235523Z
LAST-MODIFIED:20251112T235523Z
UID:923-1774380600-1774386000@ingersollanddistricthorticultural.ca
SUMMARY:March 24th 2026 - Show Stopping Shrubbery
DESCRIPTION:Love Shrubbery? This is the presentation for you by Mike Prong.
URL:https://ingersollanddistricthorticultural.ca/event/march-24th-2026-show-stopping-shrubbery/
LOCATION:Ingersoll 50+ Activity Centre\, 250 Ingersoll Street South\, Ingersoll\, Ontario\, N5C 3J7\, Canada
ORGANIZER;CN="Richard Poortinga%2C Linda Henderson":MAILTO:info@ingersollhortsociety.ca
END:VEVENT
BEGIN:VEVENT
DTSTART;TZID=America/Toronto:20260224T193000
DTEND;TZID=America/Toronto:20260224T210000
DTSTAMP:20260423T173100
CREATED:20251112T235221Z
LAST-MODIFIED:20251112T235221Z
UID:919-1771961400-1771966800@ingersollanddistricthorticultural.ca
SUMMARY:February 24th 2026 - Hydrangeas
DESCRIPTION:Diane Wheler will give us all we need to know about growing hydrangeas.
URL:https://ingersollanddistricthorticultural.ca/event/february-24th-2026-hydrangeas/
LOCATION:Ingersoll 50+ Activity Centre\, 250 Ingersoll Street South\, Ingersoll\, Ontario\, N5C 3J7\, Canada
ORGANIZER;CN="Richard Poortinga%2C Linda Henderson":MAILTO:info@ingersollhortsociety.ca
END:VEVENT
BEGIN:VEVENT
DTSTART;TZID=America/Toronto:20260127T193000
DTEND;TZID=America/Toronto:20260127T210000
DTSTAMP:20260423T173100
CREATED:20251113T001850Z
LAST-MODIFIED:20251113T001850Z
UID:933-1769542200-1769547600@ingersollanddistricthorticultural.ca
SUMMARY:January 27th 2026 - What's Bugging You
DESCRIPTION:Come and join Nancy Abra as she talks about bugs and plant diseases and how to prevent them.
URL:https://ingersollanddistricthorticultural.ca/event/january-27th-2026-whats-bugging-you/
LOCATION:Ingersoll 50+ Activity Centre\, 250 Ingersoll Street South\, Ingersoll\, Ontario\, N5C 3J7\, Canada
END:VEVENT
BEGIN:VEVENT
DTSTART;TZID=America/Toronto:20251125T180000
DTEND;TZID=America/Toronto:20251125T210000
DTSTAMP:20260423T173100
CREATED:20250204T225443Z
LAST-MODIFIED:20251112T211644Z
UID:847-1764093600-1764104400@ingersollanddistricthorticultural.ca
SUMMARY:Nov. 25th 2025 - Create a Christmas Tabletop
DESCRIPTION:Bring your greenery\, candles\, baubles\, bows and a container to create your masterpiece. Richard and Tena Poortinga will guide us through how to make a beautiful Christmas centerpiece. It will be a fun filled\, hands on workshop. This will be our last meeting held at the Masonic Lodge 150 Thames Street S in Ingersoll.
URL:https://ingersollanddistricthorticultural.ca/event/nov-25th-2025-create-a-christmas-tabletop/
LOCATION:Ingersoll Masonic Hall\, 190 Thames Street South\, Ingersoll\, Ontario\, N5C 2T5\, Canada
END:VEVENT
BEGIN:VEVENT
DTSTART;TZID=America/Toronto:20251125T180000
DTEND;TZID=America/Toronto:20251125T193000
DTSTAMP:20260423T173100
CREATED:20250204T225155Z
LAST-MODIFIED:20250204T225155Z
UID:849-1764093600-1764099000@ingersollanddistricthorticultural.ca
SUMMARY:Nov. 25th 2025 - Christmas Potluck Dinner
DESCRIPTION:Prior to the Panel of Knowledge (which starts at 7:30pm) we will hold our annual potluck Christmas dinner. Bring a favourite dish to share with fellow enthusiasts. Tea and coffee will be served. Meet and greet other gardening members.
URL:https://ingersollanddistricthorticultural.ca/event/nov-25th-2025-christmas-potluck-dinner/
LOCATION:Ingersoll Masonic Hall\, 190 Thames Street South\, Ingersoll\, Ontario\, N5C 2T5\, Canada
END:VEVENT
END:VCALENDAR